BEGIN:VCALENDAR
VERSION:2.0
PRODID:SchoolNow
CALSCALE:GREGORIAN
BEGIN:VEVENT
UID:c8f458de-d205-11f0-a761-0a58a9feac02
DTSTAMP:20260421T051507Z
SUMMARY:Annie Jr. Evening Performance
URL;VALUE=URI:https://www.mgsd70.org/calendar/8818558/annie-jr-evening-perf
 ormance
DTSTART:20260501T000000Z
DTEND:20260501T010000Z
END:VEVENT
END:VCALENDAR
